BEGIN:VCALENDAR
VERSION:2.0
PRODID:-//wp-events-plugin.com//7.2.3.1//EN
TZID:America/New_York
X-WR-TIMEZONE:America/New_York
BEGIN:VEVENT
UID:2970@sussexpride.org
DTSTART:20261215T190000Z
DTEND:20261215T203000Z
DTSTAMP:20260105T210936Z
URL:https://sussexpride.org/events/aging/
SUMMARY:Pride Speaker Series: LGBTQIA Older Adults
DESCRIPTION:Join us for the December Pride Speaker Series online where the 
 topic will be issues facing LGBTQIA older adults as they age.   Registra
 tion information will be posted here  when it becomes available.\n\n\nThe
  Pride Speaker Series is a monthly conversation on zoom about issues of im
 portance to our community.   The series is sponsored by the Delaware Gen
 der &amp\; Sexuality Collective\,  PTK Delaware\, Sussex Pride\, Orgul
 lo Delaware\, ACLU of Delaware and CAMP Rehoboth.\n\n\nDiscover more reso
 urces for LGBTQ+ Older Adults in Delaware\n\n 	Learn more about organizati
 ons for LGBTQ+ Older Adults\n 	Visit the Sussex Pride Aging Web Page\n 	Fo
 llow Sussex Pride Aging on Instagram\n 	Like Sussex Pride Aging on Faceboo
 k\n 	Join the Delaware LGBTQ+ Aging Private Facebook Group\n\n&nbsp\;
ATTACH;FMTTYPE=image/jpeg:https://i0.wp.com/sussexpride.org/wp-content/upl
 oads/2026/01/Pride-Speaker-Series-LGBTQIA-Aging-Adults.png?fit=1000%2C500&
 ssl=1
CATEGORIES:Advocacy,Aging,Health,Kent County,New Castle County
END:VEVENT
END:VCALENDAR