BEGIN:VCALENDAR
VERSION:2.0
PRODID:-//wp-events-plugin.com//7.2.3.1//EN
TZID:America/New_York
X-WR-TIMEZONE:America/New_York
BEGIN:VEVENT
UID:3068@sussexpride.org
DTSTART;TZID=America/New_York:20260718T092000
DTEND;TZID=America/New_York:20260718T102000
DTSTAMP:20260418T204915Z
URL:https://sussexpride.org/events/bipanmeetup/
SUMMARY:Bi & Pan Meetup at Rehoboth Beach Pride
DESCRIPTION:Bisexual and Pansexual community members are invited to join us
  for a meetup at Rehoboth Beach Pride\, which will be hosted by Desiree Au
 rillo.   Kick off Rehoboth Beach Pride by connecting with other Bi &amp\
 ; Pan folks.\n\nWhat is a meetup?   We will have several meetups at Reho
 both Beach Pride.  Meetups are informal\, peer-facilitated discussions so
  that folks with the same lived experience have the opportunity to connect
  and talk about whatever is on their mind.   If you have thoughts about 
 how we can better Bi &amp\; Pan folks in Delaware your thoughts and sugges
 tions are welcome.   But whatever you want to talk about is welcome!\n\n
 Where can youth find additional support?  Check out our Sussex Pride Bi &
 amp\; Pan Page at sussexpride.org/bipan.  You can also connect with us on
  facebook or instagram.\n\nThis event is part of Rehoboth Beach Pride W
 eekend.  Learn more at sussexpride.org/rehobothbeach. \n\nIf you’re c
 oming from out of town\, we recommend you use the Rehoboth Beach Park &am
 p\; Ride\, as parking is extremely limited in the summertime.
ATTACH;FMTTYPE=image/jpeg:https://i0.wp.com/sussexpride.org/wp-content/upl
 oads/2026/04/BI-MEETUP-PANEL.webp?fit=900%2C450&ssl=1
CATEGORIES:Bisexual
END:VEVENT
BEGIN:VTIMEZONE
TZID:America/New_York
X-LIC-LOCATION:America/New_York
BEGIN:DAYLIGHT
DTSTART:20260308T030000
TZOFFSETFROM:-0500
TZOFFSETTO:-0400
TZNAME:EDT
END:DAYLIGHT
END:VTIMEZONE
END:VCALENDAR