BEGIN:VCALENDAR
VERSION:2.0
PRODID:-//wp-events-plugin.com//7.2.3.1//EN
TZID:America/New_York
X-WR-TIMEZONE:America/New_York
BEGIN:VEVENT
UID:3059@sussexpride.org
DTSTART;TZID=America/New_York:20260718T103000
DTEND;TZID=America/New_York:20260718T113000
DTSTAMP:20260330T235425Z
URL:https://sussexpride.org/events/briannahill/
SUMMARY:Brianna Hill: Supporting Unhoused LGBTQ+ Youth in Delaware
DESCRIPTION:Join us at the Rehoboth Beach Pride Festival for a panel discus
 sion on supporting unhoused LGBTQ+ Youth in Delaware.  This panel discuss
 ion will be moderated by Spotlight Delaware Reporter Brianna Hill.   Bri
 anna recently completed a series of articles on housing issues for Spotlig
 ht Delaware.  Brianna Hill graduated from Temple University with a bache
 lor's in journalism. During her time at Temple\, she served as the deputy 
 copy editor for The Temple News\, the University's independent\, student-r
 un newspaper.\n\nThe panel discussion will include Jim Bianchetta from the
  Safeguard Housing Committee\, Susan Davis from Housing Alliance Delaware\
 , and more.  The discussion will cover a variety of topics including emer
 gency housing\, issues related to the foster  care system\, and support f
 or LGBTQ+ Youth aging out of the foster care system.\n\nJoin us for this i
 mportant panel discussion\, and remember that the money raised from the Ra
 ffle at Rehoboth Beach Pride will support unhoused LGBTQ+ youth.  Find ou
 t more about our work advocating for unhoused LGBTQ+ community members at 
 sussexpride.org/housing.\n\nThis event is part of Rehoboth Beach Pride Wee
 kend.  Learn more at sussexpride.org/rehobothbeach. \n\nIf you’re com
 ing from out of town\, we recommend you use the Rehoboth Beach Park &amp\
 ; Ride\, as parking is extremely limited in the summertime.
ATTACH;FMTTYPE=image/jpeg:https://i0.wp.com/sussexpride.org/wp-content/upl
 oads/2026/03/Brianna-Hill.webp?fit=900%2C450&ssl=1
CATEGORIES:Advocacy,Housing,Pride,Youth
LOCATION:Rehoboth Beach Convention Center\, 229 Rehoboth Avenue\, Rehoboth 
 Avenue\, DE\, 19971\, United States
GEO:38.716571;-75.083518
X-APPLE-STRUCTURED-LOCATION;VALUE=URI;X-ADDRESS=229 Rehoboth Avenue\, Rehob
 oth Avenue\, DE\, 19971\, United States;X-APPLE-RADIUS=100;X-TITLE=Rehobot
 h Beach Convention Center:geo:38.716571,-75.083518
END:VEVENT
BEGIN:VTIMEZONE
TZID:America/New_York
X-LIC-LOCATION:America/New_York
BEGIN:DAYLIGHT
DTSTART:20260308T030000
TZOFFSETFROM:-0500
TZOFFSETTO:-0400
TZNAME:EDT
END:DAYLIGHT
END:VTIMEZONE
END:VCALENDAR