BEGIN:VCALENDAR
VERSION:2.0
PRODID:-//wp-events-plugin.com//7.2.3.1//EN
TZID:America/New_York
X-WR-TIMEZONE:America/New_York
BEGIN:VEVENT
UID:3001@sussexpride.org
DTSTART:20261209T100000Z
DTEND:20261209T120000Z
DTSTAMP:20260114T202142Z
URL:https://sussexpride.org/events/coffee-talk-2-2026-12-09/
SUMMARY:Coffee Talk
DESCRIPTION:Join us on for Coffee Talk  at Panera from 10:00 AM to Noon. 
  Coffee Talk is an informal social gathering for older LGBTQ+ Adults (and 
 anyone else who wants to join us).  This group usually meets on the secon
 d Wednesday of every month.  Come to connect with community\, and let let
  us know how we can best support LGBTQ+ older adults.  For more informati
 on contact Kim.\n\nIs it hard for you to get to Panera?  No worries!  A 
 volunteer from Sussex Pride Aging would love to connect with you on zoom o
 r over the phone.  For more information email aging@sussexpride.org.\n\n
 Sussex Pride Aging supports LGBTQ+ Older Adults!  We typically have worki
 ng meetings on the fourth Wednesday of every month either on zoom or in pe
 rson.  For more information:\n\n\n\n 	Find us on the web at: sussexpride
 .org/aging\n 	Find us on instagram at: instagram.com/sussexprideaging\n 	
 Find us on facebook at: facebook.com/sussexprideaging\n 	Join the Delawa
 re LGBTQ+ Aging Private Facebook Group\n 	Join our Sussex Pride Aging Goo
 gle Group  (you need a gmail or google account for this)\n\n\n
ATTACH;FMTTYPE=image/jpeg:https://i0.wp.com/sussexpride.org/wp-content/upl
 oads/2026/01/COFFEE-TALK-PANEL-6.png?fit=900%2C450&ssl=1
CATEGORIES:Aging
LOCATION:Panera\, 18423 Bryan Drive\, REHOBOTH BCH\, DE\, 19971-4467\, Unit
 ed States
GEO:38.734604;-75.136726
X-APPLE-STRUCTURED-LOCATION;VALUE=URI;X-ADDRESS=18423 Bryan Drive\, REHOBOT
 H BCH\, DE\, 19971-4467\, United States;X-APPLE-RADIUS=100;X-TITLE=Panera:
 geo:38.734604,-75.136726
END:VEVENT
END:VCALENDAR