BEGIN:VCALENDAR
VERSION:2.0
PRODID:-//wp-events-plugin.com//7.2.3.1//EN
TZID:America/New_York
X-WR-TIMEZONE:America/New_York
BEGIN:VEVENT
UID:2969@sussexpride.org
DTSTART:20261117T190000Z
DTEND:20261117T203000Z
DTSTAMP:20260105T004325Z
URL:https://sussexpride.org/events/crownact/
SUMMARY:Pride Speaker Series: The Crown Act & Hair Discrimination
DESCRIPTION:\n\nJoin us for the November Pride Speaker Series on Zoom where
  we will be discussing the Hair Act &amp\; Hair Discrimination in Delaware
 .  Registration information will be posted here when it becomes available
 .\n\n\n\nThe Pride Speaker Series is a monthly conversation on zoom about 
 issues of importance to our community.   The series is sponsored by the 
 Delaware Gender &amp\; Sexuality Collective\,  PTK Delaware\, Sussex Pr
 ide\, Orgullo Delaware\, ACLU of Delaware and CAMP Rehoboth.\n\n\n\nDisc
 over more resources for the BIPOC (Black\, Indigenous\, and People of Colo
 r) LGBTQ+ Community in Delaware\n\n\n 	Learn about Organizations for BIPOC
  LGBTQ+ Communities in Delaware\n 	Visit the Sussex Pride BIPOC Web Page\n
  	Follow Sussex Pride BIPOC on Instagram\n 	Like Sussex Pride BIPOC on Fac
 ebook\n 	Join the Delaware LGBTQ+ BIPOC Private Facebook Group\n\n&nbsp\;\
 n\n&nbsp\;
ATTACH;FMTTYPE=image/jpeg:https://i0.wp.com/sussexpride.org/wp-content/upl
 oads/2026/01/Pride-Speaker-Series-Hair-Discrimination.png?fit=1000%2C500&s
 sl=1
CATEGORIES:Advocacy,BIPOC,Kent County,New Castle County
END:VEVENT
END:VCALENDAR