BEGIN:VCALENDAR
VERSION:2.0
PRODID:-//wp-events-plugin.com//7.2.3.1//EN
TZID:America/New_York
X-WR-TIMEZONE:America/New_York
BEGIN:VEVENT
UID:1692@sussexpride.org
DTSTART:20240910T140000Z
DTEND:20240910T153000Z
DTSTAMP:20240818T051844Z
URL:https://sussexpride.org/events/davp/
SUMMARY:Delaware Anti-Violence Project September Meeting
DESCRIPTION:The Delaware Anti-Violence Project works to prevent violence ag
 ainst LGBTQ+ individuals and advocate for survivors in Delaware.   Join 
 us for our monthly meeting.  This is a hybrid meeting that will take plac
 e both online and in person.   If you would like to participate online a
 nd are not currently a member\, please email davp@sussexpride.org.\n\nAt t
 his meeting we will have a presentation about the anti-violence project mo
 vement.  We will talk about our national partner\, the National Coalition
  of Anti-Violence Project\, as well as how these projects operate in other
  states.\n\nFollow the us on the web at sussexpride.org/antiviolence\, on
  instagram at instagram.com/deantiviolenceproject\, or on facebook at: f
 acebook.com/delawareavp.
ATTACH;FMTTYPE=image/jpeg:https://i0.wp.com/sussexpride.org/wp-content/upl
 oads/2024/08/Delaware-Anti-Violence-Project.png?fit=1200%2C600&ssl=1
CATEGORIES:Advocacy,Anti-Violence Work
LOCATION:What is Your Voice\, 17583 Shady Road\, Lewes\, DE\, 19958\, Unite
 d States
GEO:38.74633;-75.168207
X-APPLE-STRUCTURED-LOCATION;VALUE=URI;X-ADDRESS=17583 Shady Road\, Lewes\, 
 DE\, 19958\, United States;X-APPLE-RADIUS=100;X-TITLE=What is Your Voice:g
 eo:38.74633,-75.168207
END:VEVENT
END:VCALENDAR