BEGIN:VCALENDAR
VERSION:2.0
PRODID:-//wp-events-plugin.com//7.2.3.1//EN
TZID:America/New_York
X-WR-TIMEZONE:America/New_York
BEGIN:VEVENT
UID:1990@sussexpride.org
DTSTART:20261110T140000Z
DTEND:20261111T150000Z
DTSTAMP:20260205T041736Z
URL:https://sussexpride.org/events/delaware-anti-violence-project-monthly-
 meeting-2026-11-10/
SUMMARY:Delaware Anti-Violence Project Monthly Meeting
DESCRIPTION:The Delaware Anti-Violence Project works to prevent violence ag
 ainst LGBTQ+ individuals and advocate for survivors in Delaware.   Join 
 us for our monthly meeting.  This meeting that will take place online . 
  If you are not currently a member of the group\, please email davp@sussex
 pride.org to receive meeting information.  If you are currently a member 
 of the google group for the Delaware Anti-Violence Project\, you do not ne
 ed to register.\n\nTo learn more about the Delaware Anti Violence Project:
 \n\n 	Follow the us on the web at sussexpride.org/antiviolence\n 	Follow u
 s on instagram at instagram.com/deantiviolenceproject\n 	Follow us on face
 book at: facebook.com/delawareavp\n\n&nbsp\;
ATTACH;FMTTYPE=image/jpeg:https://i0.wp.com/sussexpride.org/wp-content/upl
 oads/davp.png?fit=900%2C450&ssl=1
CATEGORIES:Advocacy,Anti-Violence Work
END:VEVENT
END:VCALENDAR