BEGIN:VCALENDAR
VERSION:2.0
PRODID:-//wp-events-plugin.com//7.2.3.1//EN
TZID:America/New_York
X-WR-TIMEZONE:America/New_York
BEGIN:VEVENT
UID:3039@sussexpride.org
DTSTART:20260606T150000Z
DTEND:20260606T190000Z
DTSTAMP:20260228T223331Z
URL:https://sussexpride.org/events/elvirakurt/
SUMMARY:A Night of Comedy with Elvira Kurt
DESCRIPTION:The Delaware RD 20 Democratic Party invites you to a night of c
 omedy at with headliner Elvira Kurt and opening act\, local comedian Karen
  Faber.  Doors open at 2:45 and a tea dance takes place starting at 3:00 
 PM.  Comedy begins at 4:30 PM.   Food and drinks will be available for 
 purchase at the event.\n\nA Fabulous silent auction will include:\n\n 	A B
 ed and Breakfast in the in local area\n 	Artwork by local Artists\n 	Gifts
  Cards from local fine restaurants\, to mention a few\n\nElvira Kurt is a 
 renowned Canadian comedian\, writer\, and television host\, celebrated as 
 a pioneering LGBTQ+ figure in comedy. Born in 1961 in Toronto to Hungarian
  immigrants\, she has had a prolific career in stand-up\, improv\, and tel
 evision.
ATTACH;FMTTYPE=image/jpeg:https://i0.wp.com/sussexpride.org/wp-content/upl
 oads/2026/02/A-Night-of-Comedy-with-Elvira-Kurt.png?fit=900%2C450&ssl=1
CATEGORIES:Arts and Culture,Community,Women
LOCATION:Rehoboth Beach Convention Center\, 229 Rehoboth Avenue\, Rehoboth 
 Avenue\, DE\, 19971\, United States
GEO:38.716571;-75.083518
X-APPLE-STRUCTURED-LOCATION;VALUE=URI;X-ADDRESS=229 Rehoboth Avenue\, Rehob
 oth Avenue\, DE\, 19971\, United States;X-APPLE-RADIUS=100;X-TITLE=Rehobot
 h Beach Convention Center:geo:38.716571,-75.083518
END:VEVENT
END:VCALENDAR