BEGIN:VCALENDAR
VERSION:2.0
PRODID:-//wp-events-plugin.com//7.2.3.1//EN
TZID:America/New_York
X-WR-TIMEZONE:America/New_York
BEGIN:VEVENT
UID:2971@sussexpride.org
DTSTART:20260519T190000Z
DTEND:20260519T203000Z
DTSTAMP:20260105T213201Z
URL:https://sussexpride.org/events/familyplanning/
SUMMARY:Pride Speaker Series: Family Planning
DESCRIPTION:Join us for the May Pride Speaker Series online where the topic
  will family planning in the LGBTQIA commuity.   Registration informatio
 n will be posted here  when it becomes available.\n\n\nThe Pride Speaker 
 Series is a monthly conversation on zoom about issues of importance to our
  community.   The series is sponsored by the Delaware Gender &amp\; Sexu
 ality Collective\,  PTK Delaware\, Sussex Pride\, Orgullo Delaware\, A
 CLU of Delaware and CAMP Rehoboth.\n\n\nDiscover more resources for LGBTQ
 + Families in Delaware\n\n 	Learn about organizations for LGBTQ+ Families 
 in Delaware\n 	Visit the Sussex Pride Families Web Page\n 	Follow Sussex P
 ride Families on Instagram\n 	Like Sussex Pride Families on Facebook\n\n&n
 bsp\;
ATTACH;FMTTYPE=image/jpeg:https://i0.wp.com/sussexpride.org/wp-content/upl
 oads/2026/01/Pride-Speaker-Series-Family-Planning.png?fit=1000%2C500&ssl=1
CATEGORIES:Families,Health,Kent County,New Castle County
END:VEVENT
END:VCALENDAR