BEGIN:VCALENDAR
VERSION:2.0
PRODID:-//wp-events-plugin.com//7.2.3.1//EN
TZID:America/New_York
X-WR-TIMEZONE:America/New_York
BEGIN:VEVENT
UID:1730@sussexpride.org
DTSTART:20241130T200000Z
DTEND:20241130T200000Z
DTSTAMP:20241118T202737Z
URL:https://sussexpride.org/events/forever/
SUMMARY:The Forever Party
DESCRIPTION:Join us as we mark World AIDS Day Weekend with the Forever Part
 y at Freddie's Beach Bar November 30th starting at 8:00 PM.\n\nEnjoy the s
 ounds of DJ Das Wuff and special performances by Sauvage\, Tamia Mykles\, 
 Ivy Blue Austin\, Lovey\, and Xion Duboyz.\n\nSee this event on facebook\n
 \nAs we mark World AIDS Day\, you will have a chance to remember those los
 t to HIV/AIDS and to learn about the tools we have in Delaware to end the 
 epidemic including PEP\, Prep\, Doxy PEP\, Free HIV Testing\, and Free con
 doms!\n\nLearn more here:\n\n 	Learn more about DOXY PEP (Now available at
  all state service centers)\n 	Learn more about Free HIV &amp\; Syphilis T
 esting in Across Delaware\n 	Access PrEP in Delaware\n 	Visit our website 
 at sussexpride.org/hiv\n 	Find us on instagram at instagram.com/hivdelawar
 e\n 	Find us on facebook at facebook.com/hivdelaware\n\n&nbsp\;
ATTACH;FMTTYPE=image/jpeg:https://i0.wp.com/sussexpride.org/wp-content/upl
 oads/2024/11/The-Forever-Party.png?fit=900%2C450&ssl=1
CATEGORIES:Community,Health,HIV
END:VEVENT
END:VCALENDAR