BEGIN:VCALENDAR
VERSION:2.0
PRODID:-//wp-events-plugin.com//7.2.3.1//EN
TZID:America/New_York
X-WR-TIMEZONE:America/New_York
BEGIN:VEVENT
UID:1593@sussexpride.org
DTSTART:20240423T130000Z
DTEND:20240423T150000Z
DTSTAMP:20240325T202029Z
URL:https://sussexpride.org/events/georgetownplan/
SUMMARY:Georgetown: State Plan Feedback Session
DESCRIPTION:DSAAPD (The Division of Services for Aging and Adults with Phys
 ical Disabilities) invites community members to participate in this feedba
 ck session on the State Aging Plan.\n\nThe State Plan is developed to meet
  the requirements of the Older Americans Act\, which provides funding for 
 a variety of programs and services for older Delawareans and their caregiv
 ers\, including supportive services\, nutrition programs\, disease prevent
 ion and health promotion initiatives\, elder rights protection activities\
 , and caregiver support programs.\n\nWe are hoping that for the first time
  ever this year\, LGBTQ+ Delawareans will be specifically included in the 
 state aging plan.  Your input is crucial.  Join us!  Read more about St
 ate Aging Plans and the LGBTQ Community here
ATTACH;FMTTYPE=image/jpeg:https://i0.wp.com/sussexpride.org/wp-content/upl
 oads/2024/03/DELAWARE-2.png?fit=1000%2C500&ssl=1
CATEGORIES:Aging
LOCATION:Cheer Community Center\, 20520 Sand Hill Road\, Georgetown\, DE\, 
  19947\, United States
GEO:38.700922;-75.368636
X-APPLE-STRUCTURED-LOCATION;VALUE=URI;X-ADDRESS=20520 Sand Hill Road\, Geor
 getown\, DE\,  19947\, United States;X-APPLE-RADIUS=100;X-TITLE=Cheer Comm
 unity Center:geo:38.700922,-75.368636
END:VEVENT
END:VCALENDAR