BEGIN:VCALENDAR
VERSION:2.0
PRODID:-//wp-events-plugin.com//7.2.3.1//EN
TZID:America/New_York
X-WR-TIMEZONE:America/New_York
BEGIN:VEVENT
UID:3066@sussexpride.org
DTSTART;TZID=America/New_York:20260520T090000
DTEND;TZID=America/New_York:20260520T150000
DTSTAMP:20260416T210810Z
URL:https://sussexpride.org/events/healthadvocacy/
SUMMARY:Delaware HIV Consortium Health Advocacy Day
DESCRIPTION:Whether you’re a healthcare professional\, a community advoca
 te\, or someone who just cares deeply about the well-being of our neighbor
 s\, your voice is a powerful tool for change.\nJoin  on the West Lawn in 
 Dover this May to champion the policies that build a healthier\, more equi
 table Delaware. This is your chance to meet with legislators\, connect wit
 h community leaders\, and ensure that public health remains a top priority
  in our state.\nWhen: May 20\, 2026\nTime: Starting at 9:00 AM\nWhere: Leg
 islative Hall\, 411 Legislative Avenue\, Dover\, DE\nPublic health isn't j
 ust about medicine\; it's about housing\, nutrition\, mental health\, and 
 community support systems. By showing up\, you help put a human face on th
 e data and stories that drive legislative decisions.\nMark your calendars 
 and prepare to make some noise! Whether you've been advocating for years o
 r this is your first time visiting Legislative Hall\, we need your energy 
 and your perspective.\nFor more information or to RSVP\, please visit our 
 website or contact us directly.\n  [maxbutton id="14" url="https://forms.
 office.com/r/iMTatxnHBh"]\n&nbsp\;\n
ATTACH;FMTTYPE=image/jpeg:https://i0.wp.com/sussexpride.org/wp-content/upl
 oads/2026/04/Health-Day-Panel-900-x-450-px.webp?fit=900%2C450&ssl=1
CATEGORIES:Advocacy,Health,HIV
LOCATION:Legislative Hall\, 411 Legislative Ave\, Dover\, DE\, 199901\, Uni
 ted States
GEO:39.157163;-75.519572
X-APPLE-STRUCTURED-LOCATION;VALUE=URI;X-ADDRESS=411 Legislative Ave\, Dover
 \, DE\, 199901\, United States;X-APPLE-RADIUS=100;X-TITLE=Legislative Hall
 :geo:39.157163,-75.519572
END:VEVENT
BEGIN:VTIMEZONE
TZID:America/New_York
X-LIC-LOCATION:America/New_York
BEGIN:DAYLIGHT
DTSTART:20260308T030000
TZOFFSETFROM:-0500
TZOFFSETTO:-0400
TZNAME:EDT
END:DAYLIGHT
END:VTIMEZONE
END:VCALENDAR