BEGIN:VCALENDAR
VERSION:2.0
PRODID:-//wp-events-plugin.com//7.2.3.1//EN
TZID:America/New_York
X-WR-TIMEZONE:America/New_York
BEGIN:VEVENT
UID:1921@sussexpride.org
DTSTART:20251231T173000Z
DTEND:20260101T020000Z
DTSTAMP:20251106T211831Z
URL:https://sussexpride.org/events/jingleball/
SUMMARY:GWOR: Jingle Ball!
DESCRIPTION:It’s that time of the year again! The cold air is out\, spiri
 ts are high and the smell of peppermint and holiday cheer is just starting
  to kick off! With it comes the annual Gay Women Of Rehoboth Jingle Ball! 
 \nThe Jingle Ball is an annual celebration put on by Gay Women Of Rehoboth
  (GWOR) and it’s an amazing way to end your holiday season and ring in t
 he new year of 2026! \nWith it comes music by DJ Sheek and The Girls Room 
 as well as a champagne toast! Here’s to 2026 and the holiday season! See
  below for more specific information!\nEvent Link: https://facebook.com/ev
 ents/s/jingle-ball-new-years-eve/1475880160361145/\nWhere: Rehoboth Beach 
 Convention Center \nWhen: Doors open at 5:30 PM on December 31st! The even
 t goes on until the wee hours of the morning on January 1st 2026! \nIMPORT
 ANT INFORMATION:\nThis event does require a ticket. Tickets are 40 dollars
  in advance\, or you can pay 50 dollars at the door for entry. Private tab
 les are 500 dollars each and can seat up to ten people. \nFOR VOLUNTEERS: 
 \nAre you Interested in volunteering at this event? Send an email to Kelly
 b0802@aol.com  or gaywomenofrehoboth@gmail.com to learn more and sign up!
  
ATTACH;FMTTYPE=image/jpeg:https://i0.wp.com/sussexpride.org/wp-content/upl
 oads/2025/10/IMG_9629.png?fit=900%2C450&ssl=1
CATEGORIES:Community,Women
LOCATION:Rehoboth Beach Convention Center\, 229 Rehoboth Avenue\, Rehoboth 
 Avenue\, DE\, 19971\, United States
GEO:38.716571;-75.083518
X-APPLE-STRUCTURED-LOCATION;VALUE=URI;X-ADDRESS=229 Rehoboth Avenue\, Rehob
 oth Avenue\, DE\, 19971\, United States;X-APPLE-RADIUS=100;X-TITLE=Rehobot
 h Beach Convention Center:geo:38.716571,-75.083518
END:VEVENT
END:VCALENDAR