BEGIN:VCALENDAR
VERSION:2.0
PRODID:-//wp-events-plugin.com//7.2.3.1//EN
TZID:America/New_York
X-WR-TIMEZONE:America/New_York
BEGIN:VEVENT
UID:1594@sussexpride.org
DTSTART:20240425T130000Z
DTEND:20240425T150000Z
DTSTAMP:20240425T150424Z
URL:https://sussexpride.org/events/lewesplan/
SUMMARY:Lewes: State Plan Feedback Session
DESCRIPTION:DSAAPD (The Division of Services for Aging and Adults with Phys
 ical Disabilities) invites community members to participate in this feedba
 ck session on the State Aging Plan.   Steve Touzell will be representing
  Sussex Pride Aging on the panel for this event.   This is one of severa
 l feedback sessions taking place across the state.   To learn about the 
 other feedback sessions\, click here.\n\nThe State Plan is developed to me
 et the requirements of the Older Americans Act\, which provides funding fo
 r a variety of programs and services for older Delawareans and their careg
 ivers\, including supportive services\, nutrition programs\, disease preve
 ntion and health promotion initiatives\, elder rights protection activitie
 s\, and caregiver support programs.\n\nWe are hoping that for the first ti
 me ever this year\, LGBTQ+ Delawareans will be specifically included in th
 e state aging plan.  Your input is crucial.  Join us!  Read more about 
 State Aging Plans and the LGBTQ Community here
ATTACH;FMTTYPE=image/jpeg:https://i0.wp.com/sussexpride.org/wp-content/upl
 oads/2024/03/DELAWARE-2.png?fit=1000%2C500&ssl=1
CATEGORIES:Aging
LOCATION:Lewes Senior Center\, 32083 Janice Road\, Lewes\, DE\, 19958\, Uni
 ted States
GEO:38.750339;-75.190333
X-APPLE-STRUCTURED-LOCATION;VALUE=URI;X-ADDRESS=32083 Janice Road\, Lewes\,
  DE\, 19958\, United States;X-APPLE-RADIUS=100;X-TITLE=Lewes Senior Center
 :geo:38.750339,-75.190333
END:VEVENT
END:VCALENDAR