BEGIN:VCALENDAR
VERSION:2.0
PRODID:-//wp-events-plugin.com//7.2.3.1//EN
TZID:America/New_York
X-WR-TIMEZONE:America/New_York
BEGIN:VEVENT
UID:3052@sussexpride.org
DTSTART:20260607T093000Z
DTEND:20260607T103000Z
DTSTAMP:20260316T201919Z
URL:https://sussexpride.org/events/lutheranpride/
SUMMARY:Pride Service at Community Lutheran Church
DESCRIPTION:Community Lutheran Church will hold their Pride Service on Sund
 ay June 7th at 9:30 AM.   Come celebrate Pride Month.\n\nCommunity Luthe
 ran Church accepts\, welcomes\, and embraces people of every race\, color\
 , culture\, age\, gender identity\, gender expression\, sexual orientation
 \, marital status\, faith story\, economic situation\, physical and mental
  ability\, educational level\, work history\, political affiliation\, or c
 itizenship status. All are welcome to the worship life of this congregatio
 n\, including access to the sacraments of Baptism and Holy Communion\, and
  all are welcome and encouraged to join in our congregational life and min
 istries.\n\n&nbsp\;
ATTACH;FMTTYPE=image/jpeg:https://i0.wp.com/sussexpride.org/wp-content/upl
 oads/2026/03/Community-Lutheran-Church-Pride-Service.webp?fit=900%2C450&ss
 l=1
CATEGORIES:Faith,Pride
LOCATION:Community Lutheran Church\, 30897 Omar Rd.\, Frankford\, Delaware\
 , 19945\, United States
GEO:38.527974;-75.201608
X-APPLE-STRUCTURED-LOCATION;VALUE=URI;X-ADDRESS=30897 Omar Rd.\, Frankford\
 , Delaware\, 19945\, United States;X-APPLE-RADIUS=100;X-TITLE=Community Lu
 theran Church:geo:38.527974,-75.201608
END:VEVENT
END:VCALENDAR