BEGIN:VCALENDAR
VERSION:2.0
PRODID:-//wp-events-plugin.com//7.2.3.1//EN
TZID:America/New_York
X-WR-TIMEZONE:America/New_York
BEGIN:VEVENT
UID:2968@sussexpride.org
DTSTART:20260721T190000Z
DTEND:20260721T203000Z
DTSTAMP:20260114T205805Z
URL:https://sussexpride.org/events/military/
SUMMARY:Pride Speaker Series: LGBTQIA in the Military
DESCRIPTION:\n\nJoin us for the July Pride Speaker Series on Zoom where the
  focus will be on LGBTQIA individuals serving in the military. Zoom regist
 ration information will be posted here when it becomes available.\n\nsee t
 his event on facebook\n\nThe Pride Speaker Series is a monthly conversatio
 n on zoom about issues of importance to our community.   The series is sp
 onsored by the Delaware Gender &amp\; Sexuality Collective\,  PTK Delawa
 re\, Sussex Pride\, Orgullo Delaware\, ACLU of Delaware and CAMP Rehobo
 th.\n\n\n\nLearn more about resources for LGBTQ+ Servicemembers in Delawar
 e:\n\n 	Learn about organizations for LGBTQ+ Servicemembers and Veterans i
 n Delaware\n 	Visit the Sussex Pride Servicemembers and Veterans Page\n 	F
 ollow Sussex Pride Servicemembers and Veterans on Instagram\n 	Like Sussex
  Pride Servicemembers and Veterans on Facebook\n\n&nbsp\;\n
ATTACH;FMTTYPE=image/jpeg:https://i0.wp.com/sussexpride.org/wp-content/upl
 oads/2026/01/Pride-Speaker-Series-Military.png?fit=1000%2C500&ssl=1
CATEGORIES:Advocacy,Kent County,New Castle County,Servicemembers &amp;
 Veterans
END:VEVENT
END:VCALENDAR