BEGIN:VCALENDAR
VERSION:2.0
PRODID:-//wp-events-plugin.com//7.2.3.1//EN
TZID:America/New_York
X-WR-TIMEZONE:America/New_York
BEGIN:VEVENT
UID:3069@sussexpride.org
DTSTART;TZID=America/New_York:20260509T100000
DTEND;TZID=America/New_York:20260509T120000
DTSTAMP:20260421T233631Z
URL:https://sussexpride.org/events/naturewalk/
SUMMARY:Sussex Pride Youth
DESCRIPTION:LGBTQ+ Youth are invited to join us for a nature walk on Saturd
 ay May 9th.   We will gather at the Gordon's Pond Pavilion at 10 AM.  
   Please register below.  Sussex Pride Youth typically hosts events for 
 LGBTQ+ Youth on the second Saturday of every month.\n\nSussex Pride Youth
  is a network of LGBTQ+ youth across Sussex County\, Delaware.  Find us 
 on Facebook at fb.com/sussexpride\, Instagram @youth.sussexpride\, or at
  sussexpride.org/youth.  We also have a discord server.  Send an email 
 to youth@sussexpride.org if you want to join us on discord.
ATTACH;FMTTYPE=image/jpeg:https://i0.wp.com/sussexpride.org/wp-content/upl
 oads/2026/04/nature-walk-panel.webp?fit=900%2C450&ssl=1
CATEGORIES:Youth
LOCATION:Gordon's Pond Pavilion\, 92-98 Ocean Dr.\, Lewes\, DE\, 19958\, 
GEO:38.742325;-75.081586
X-APPLE-STRUCTURED-LOCATION;VALUE=URI;X-ADDRESS=92-98 Ocean Dr.\, Lewes\, D
 E\, 19958\, ;X-APPLE-RADIUS=100;X-TITLE=Gordon's Pond Pavilion:geo:38.7423
 25,-75.081586
END:VEVENT
BEGIN:VTIMEZONE
TZID:America/New_York
X-LIC-LOCATION:America/New_York
BEGIN:DAYLIGHT
DTSTART:20260308T030000
TZOFFSETFROM:-0500
TZOFFSETTO:-0400
TZNAME:EDT
END:DAYLIGHT
END:VTIMEZONE
END:VCALENDAR