BEGIN:VCALENDAR
VERSION:2.0
PRODID:-//wp-events-plugin.com//7.2.3.1//EN
TZID:America/New_York
X-WR-TIMEZONE:America/New_York
BEGIN:VEVENT
UID:1961@sussexpride.org
DTSTART:20260915T180000Z
DTEND:20260915T200000Z
DTSTAMP:20251230T190401Z
URL:https://sussexpride.org/events/pflag-monthly-meeting-2026-09-15/
SUMMARY:PFLAG Monthly Meeting
DESCRIPTION:PFLAG – Rehoboth Beach is the extended family of the LGBTQ+ c
 ommunity.  PFLAG is made up of lesbian\, gay\, bisexual\, transgender\, a
 nd queer (LGBTQ+) people\, their parents and families\, and allies.\n\nPFL
 AG’s mission is to build on a foundation of loving families united with 
 LGBTQ+ people and allies who support one another and to educate ourselves 
 and our community to speak up as advocates until all hearts and minds resp
 ect\, value\, and affirm LGBTQ+ people.\n\nPFLAG – Rehoboth Beach offers
  a safe place for people who have questions or would like share their expe
 riences with others. It is impossible to overstate the impact of one paren
 t or family member listening to\, seeking help from\, and offering love an
 d acceptance to another.\n\nPFLAG meetings are be held in one of the meeti
 ng rooms that are in the front section of the Lewes Public Library located
  at: 111 Adams Avenue\, Lewes\, DE 19958.  Meetings are held on the third
  Tuesday of each month from 6:00 pm to 8:00 pm.\n\nFor more family resourc
 es:\n\n 	Visit the Sussex Pride Families Page\n 	Follow Sussex Pride Famil
 ies on Facebook\n 	Follow Sussex Pride Families on Instagram\n 	Check out 
 the Delaware Parents of LGBTQ+ Youth Private Facebook Group\n
ATTACH;FMTTYPE=image/jpeg:https://i0.wp.com/sussexpride.org/wp-content/upl
 oads/2023/07/PFLAG-Panel-1.png?fit=1000%2C500&ssl=1
CATEGORIES:Families
LOCATION:Lewes Public Libary\, 111 Adams Avenue\, Lewes\, DE\, 19958\, Unit
 ed States
GEO:38.767022;-75.140971
X-APPLE-STRUCTURED-LOCATION;VALUE=URI;X-ADDRESS=111 Adams Avenue\, Lewes\, 
 DE\, 19958\, United States;X-APPLE-RADIUS=100;X-TITLE=Lewes Public Libary:
 geo:38.767022,-75.140971
END:VEVENT
END:VCALENDAR