BEGIN:VCALENDAR
VERSION:2.0
PRODID:-//wp-events-plugin.com//7.2.3.1//EN
TZID:America/New_York
X-WR-TIMEZONE:America/New_York
BEGIN:VEVENT
UID:3065@sussexpride.org
DTSTART;TZID=America/New_York:20260508T183000
DTEND;TZID=America/New_York:20260508T210000
DTSTAMP:20260416T211220Z
URL:https://sussexpride.org/events/pridecaucus/
SUMMARY:Pride Caucus Lewes Meetup
DESCRIPTION:Join the Delaware Democratic Party Pride Caucus for a welcoming
  Social Meetup on Friday\, May 8\, 2026\, beginning at 6:30 PM in Lewes\, 
 DE.   Connect with fellow community members\, advocates\, and friends in
  a stylish and relaxed atmosphere\, featuring drinks and lively conversati
 on. This is a fantastic opportunity to discuss shared values and build com
 munity support while enjoying a delightful evening. We look forward to see
 ing you there to celebrate our progress together!\n\nWhen you sign up usin
 g the link below\, you will be provided the exact location:\n\n[maxbutton 
 id="14" url="https://www.mobilize.us/deldems/event/938403/"]\n\n
ATTACH;FMTTYPE=image/jpeg:https://i0.wp.com/sussexpride.org/wp-content/upl
 oads/2026/04/Pride-Caucus-Panel.webp?fit=900%2C450&ssl=1
CATEGORIES:Advocacy
LOCATION:Lewes\, Delaware\, 
GEO:38.910833;-75.52767
X-APPLE-STRUCTURED-LOCATION;VALUE=URI;X-ADDRESS=Delaware\, ;X-APPLE-RADIUS=
 100;X-TITLE=Lewes:geo:38.910833,-75.52767
END:VEVENT
BEGIN:VTIMEZONE
TZID:America/New_York
X-LIC-LOCATION:America/New_York
BEGIN:DAYLIGHT
DTSTART:20260308T030000
TZOFFSETFROM:-0500
TZOFFSETTO:-0400
TZNAME:EDT
END:DAYLIGHT
END:VTIMEZONE
END:VCALENDAR