BEGIN:VCALENDAR
VERSION:2.0
PRODID:-//wp-events-plugin.com//7.2.3.1//EN
TZID:America/New_York
X-WR-TIMEZONE:America/New_York
BEGIN:VEVENT
UID:3062@sussexpride.org
DTSTART;TZID=America/New_York:20260626T173000
DTEND;TZID=America/New_York:20260626T213000
DTSTAMP:20260409T192037Z
URL:https://sussexpride.org/events/recoveryhouse/
SUMMARY:Support Delaware's First LGBTQ+ Recovery Residence
DESCRIPTION:Recovery isn't one size fits all ..... for LGBTGQ+ individuals 
 safe and affirming recovery housing isn't a luxury\, it's a necessity. Joi
 n the First State Alliance for Recovery Residences (FSARR) for a Garden Pa
 rty event supporting Delaware's first LGBGTQ+ Recovery House.\n\nJoin FSAR
 R for our Rainbow Garden Party on June 26th from 5:30–9:30 PM\, an inspi
 ring and impactful evening dedicated to expanding inclusive recovery suppo
 rt in our community.\n\nThis special event will raise funds to help implem
 ent Delaware’s first certified LGBTQ+ Recovery Residence. This residence
  will provide a safe\, affirming\, and supportive environment for individu
 als in recovery who identify as LGBTQ+\, helping ensure that everyone has 
 access to care that respects and understands their lived experience.\n\nEn
 joy a beautiful garden setting while connecting with community members\, a
 dvocates\, and leaders who are committed to making recovery housing more a
 ccessible and affirming for all. Guests will also enjoy a curated selectio
 n of appetizers generously provided by local partners and experience local
  LGBTQ+ artistry\, highlighting the creativity and voices within our commu
 nity.\n\nTogether\, we can plant the seeds for a more inclusive recovery s
 ystem.\n\nGet Your Tickets Here
ATTACH;FMTTYPE=image/jpeg:https://i0.wp.com/sussexpride.org/wp-content/upl
 oads/2026/04/Gemini_Generated_Image_lvchowlvchowlvch.webp?fit=1456%2C720&s
 sl=1
CATEGORIES:Advocacy,New Castle County,Substance Use &amp; Recovery
LOCATION:Private Residence\, 416 S Lynn Dr\, Wilmington\, DE\, 18909\, 
GEO:39.767086;-75.513026
X-APPLE-STRUCTURED-LOCATION;VALUE=URI;X-ADDRESS=416 S Lynn Dr\, Wilmington\
 , DE\, 18909\, ;X-APPLE-RADIUS=100;X-TITLE=Private Residence:geo:39.767086
 ,-75.513026
END:VEVENT
BEGIN:VTIMEZONE
TZID:America/New_York
X-LIC-LOCATION:America/New_York
BEGIN:DAYLIGHT
DTSTART:20260308T030000
TZOFFSETFROM:-0500
TZOFFSETTO:-0400
TZNAME:EDT
END:DAYLIGHT
END:VTIMEZONE
END:VCALENDAR