BEGIN:VCALENDAR
VERSION:2.0
PRODID:-//wp-events-plugin.com//7.2.3.1//EN
TZID:America/New_York
X-WR-TIMEZONE:America/New_York
BEGIN:VEVENT
UID:2010@sussexpride.org
DTSTART:20260728T180000Z
DTEND:20260728T193000Z
DTSTAMP:20251230T185547Z
URL:https://sussexpride.org/events/roots-and-wings-2026-01-27-2026-02-24-2
 026-03-24-2026-04-28-2026-05-26-2026-06-23-2026-07-28/
SUMMARY:Roots and Wings
DESCRIPTION:Roots &amp\; Wings is a monthly gathering for parents of transg
 ender children\, held at Midway Cafe on the 4th Tuesday of each month. Ove
 r a shared meal\, we trade stories\, ask questions\, and learn from one an
 other’s journeys. It’s a space for growing our understanding\, strengt
 hening our support\, and celebrating our kids as they take flight — toge
 ther\, we build the roots they need while they spread their wings.\n\nFor 
 more family resources:\n\n 	Visit the Sussex Pride Families Page\n 	Follow
  Sussex Pride Families on Facebook\n 	Follow Sussex Pride Families on Inst
 agram\n 	Check out the Delaware Parents of LGBTQ+ Youth Private Facebook G
 roup\n\n&nbsp\;
ATTACH;FMTTYPE=image/jpeg:https://i0.wp.com/sussexpride.org/wp-content/upl
 oads/2025/12/Roots-and-Wings.png?fit=900%2C450&ssl=1
CATEGORIES:Families,Trans
LOCATION:Midway Cafe\, 18585 Coastal Hwy #14\,\,  Rehoboth Beach\, DE \, 19
 971\, United States
GEO:38.737256;-75.140954
X-APPLE-STRUCTURED-LOCATION;VALUE=URI;X-ADDRESS=18585 Coastal Hwy #14\,\,  
 Rehoboth Beach\, DE \, 19971\, United States;X-APPLE-RADIUS=100;X-TITLE=Mi
 dway Cafe:geo:38.737256,-75.140954
END:VEVENT
END:VCALENDAR