BEGIN:VCALENDAR
VERSION:2.0
PRODID:-//wp-events-plugin.com//7.2.3.1//EN
TZID:America/New_York
X-WR-TIMEZONE:America/New_York
BEGIN:VEVENT
UID:1951@sussexpride.org
DTSTART:20260722T150000Z
DTEND:20260722T160000Z
DTSTAMP:20260128T190254Z
URL:https://sussexpride.org/events/sussex-pride-aging-meeting-zoom-2026-07
 -22/
SUMMARY:Sussex Pride Aging Meeting
DESCRIPTION:Sussex Pride Aging supports LGBTQ+ Older Adults in Sussex Count
 y.  Join us for our next meeting.
ATTACH;FMTTYPE=image/jpeg:https://i0.wp.com/sussexpride.org/wp-content/upl
 oads/2023/04/Copy-of-Sussex-Pride-Aging-Instagram-1200-%C3%97-600-px-1.png
 ?fit=1200%2C600&ssl=1
CATEGORIES:Aging
END:VEVENT
END:VCALENDAR