BEGIN:VCALENDAR
VERSION:2.0
PRODID:-//wp-events-plugin.com//7.2.3.1//EN
TZID:America/New_York
X-WR-TIMEZONE:America/New_York
BEGIN:VEVENT
UID:3030@sussexpride.org
DTSTART:20261008T180000Z
DTEND:20261008T200000Z
DTSTAMP:20260210T211742Z
URL:https://sussexpride.org/events/sussex-pride-game-night-2026-10-08/
SUMMARY:Sussex Pride Game Night
DESCRIPTION:Join us for our next Sussex Pride Board Game Night! Bring your 
 favorite board game or just show up and play! We typically gather on the s
 econd Thursday of every month at 6:00 PM.  Game night will take place at 
 Panera.\n\nGame Night is hosted by Will Dye. We look forward to seeing you
  there!
ATTACH;FMTTYPE=image/jpeg:https://i0.wp.com/sussexpride.org/wp-content/upl
 oads/2023/01/Game-Night-Panel-1.png?fit=900%2C450&ssl=1
CATEGORIES:Community
LOCATION:Panera\, 18423 Bryan Drive\, REHOBOTH BCH\, DE\, 19971-4467\, Unit
 ed States
GEO:38.734604;-75.136726
X-APPLE-STRUCTURED-LOCATION;VALUE=URI;X-ADDRESS=18423 Bryan Drive\, REHOBOT
 H BCH\, DE\, 19971-4467\, United States;X-APPLE-RADIUS=100;X-TITLE=Panera:
 geo:38.734604,-75.136726
END:VEVENT
END:VCALENDAR